0.01381
0.00
0.00
-0.01381
-104.138092
44.261906
