0.011905
0.00
0.00
-0.011905
-104.119049
49.830956
