0.014127
0.00
0.00
-0.014127
-84.441277
38.025394
