0.019048
0.00
0.00
-0.019048
-116.190475
50.759525
