0.012763
0.00
0.00
-0.012763
-94.023026
35.127632
