0.012105
0.00
0.00
-0.012105
-96.384216
40.72105
