0.015526
0.00
0.00
-0.015526
-98.421059
49.555264
