0.015263
0.00
0.00
-0.015263
-91.360527
47.65263
