0.011579
0.00
0.00
-0.011579
-72.713165
47.565792
