0.007143
0.00
0.00
-0.007143
-79.571426
40.353573
