0.010789
0.00
0.00
-0.010789
-94.93158
33.107895
