0.011825
0.00
0.00
-0.011825
-89.518257
40.190083
