0.011746
0.00
0.00
-0.011746
-102.117462
40.849209
