0.010526
0.00
0.00
-0.010526
-89.871056
41.855263
