0.014605
0.00
0.00
-0.014605
-94.246704
42.646053
