0.010397
0.00
0.00
-0.010397
-96.753967
44.104366
