0.012237
0.00
0.00
-0.012237
-87.226974
35.122368
