0.017105
0.00
0.00
-0.017105
-89.384209
31.171053
