0.006111
0.00
0.00
-0.006111
-73.811111
43.172222
