0.011111
0.00
0.00
-0.011111
-109.111115
41.222221
