0.013158
0.00
0.00
-0.013158
-125.101311
42.13158
