0.024737
0.00
0.00
-0.024737
-127.289474
42.247368
