0.014895
0.00
0.00
-0.014895
-116.750793
37.148949
