0.009211
0.00
0.00
-0.009211
-95.118416
36.592106
