0.012632
0.00
0.00
-0.012632
-90.80526
35.126316
