0.053016
0.00
0.00
-0.053016
-109.380157
42.553177
