0.028289
0.00
0.00
-0.028289
-128.444077
43.632893
