0.016789
0.00
0.00
-0.016789
-82.701576
43.167896
