0.030921
0.00
0.00
-0.030921
-127.299347
53.15921
