0.024474
0.00
0.00
-0.024474
-96.728951
38.444736
