0.035571
0.00
0.00
-0.035571
-105.215714
51.014286
