0.03746
0.00
0.00
-0.03746
-114.374603
50.842064
