0.035947
0.00
0.00
-0.035947
-112.682891
38.819473
