0.035079
0.00
0.00
-0.035079
-89.400795
48.415874
