0.050476
0.00
0.00
-0.050476
-114.704758
53.745235
