0.034342
0.00
0.00
-0.034342
-93.486183
37.893421
